BEGIN:VCALENDAR
VERSION:2.0
PRODID:-//CERN//INDICO//EN
BEGIN:VEVENT
SUMMARY:Correlated quantum systems near and far from equilibrium
DTSTART:20260511T070000Z
DTEND:20260605T150000Z
DTSTAMP:20260420T052300Z
UID:indico-event-13274@indico.ijclab.in2p3.fr
CONTACT:francesca.sconfienza@universite-paris-saclay.fr
DESCRIPTION:Far from equilibrium dynamics in strongly-coupled systems is a
  formidable challenge\, presenting itself across energy scales\, from the 
 quark-gluon plasma in high energy to strongly-correlated materials in cond
 ensed matter. \nExperiments on ultra-short time scales have permeated res
 earch in strongly correlated condensed matter systems\, probing entirely n
 ew regimes of hydrodynamics near equilibrium\, including fluctuation and n
 onlinear effects.\nThe four-week program will bring leading experts from b
 oth high energy and condensed matter together in a highly interdisciplinar
 y program to discuss the latest advances in theory and experiment. To faci
 litate interactions between different communities\, each week follows the 
 following pattern\nMondays: In light of the variety of scientific backgro
 unds and methods we expect to host one introductory lecture per week (aime
 d at PhD candidates or researchers from a different field)\, with the rest
  of the time on Monday dedicated to discussions.\nTuesdays\, Thursdays: T
 wo talks in the morning\, with the afternoon dedicated to discussions.\nWe
 dnesdays: A more busy day with several shorter contributions.\nFridays: 
 Scheduled discussion sessions based on topics of interest identified by th
 e participants present on any given week\, as well as suggestions from the
  organizers.\nDeadline for primary consideration of applications: February
  22nd\, 2026\nOrganizing Committee:\n\n\nBlaise Goutéraux\n\n\nErik van H
 eumen\n\n\nAndrew Lucas\n\n\nBenjamin Withers\n\n\nFreek Massee\n\n\n \nP
 reliminary list of invited participants:\n\n\nPeter Abbamonte (Urbana-Cham
 paign U)\n\n\nN Peter Armitage (John Hopkins)\n\n\nKamran Behnia (ESPCI)\n
 \n\nSiham Benhabib (Paris Saclay)\n\n\nAristomenis Donos (Durham U)\n\n\nB
 enoît Fauqué (ESPCI)\n\n\nFelix Flicker (Bristol U)*\n\n\nLars Fritz (Un
 iversiteit Utrecht)*\n\n\nMichal Heller (Gent U)\n\n\nAkash Jain (Oxford U
 )\n\n\nDragan Mihailovic (University of Ljubljana)\n\n\nMatteo Mitrano (Ha
 rvard)\n\n\nChristian Pantelidou (University College\, Dublin)\n\n\nDragan
 a Popovic (Florida State U)\n\nMarvin Qi (University of Chicago)\n\nLouk R
 ademaker (Leiden U)\n\n\nJoerg Schmalian (Karlsruhe Institute of Technolog
 y)\n\n\nCorentin Morice (Université Paris Saclay)\n\n\n*: To be confirmed
 \nProgram Manager: Francesca Sconfienza\n\nhttps://indico.ijclab.in2p3.fr/
 event/13274/
LOCATION:Institut Pascal
URL:https://indico.ijclab.in2p3.fr/event/13274/
END:VEVENT
END:VCALENDAR
