BEGIN:VCALENDAR
VERSION:2.0
PRODID:-//CERN//INDICO//EN
BEGIN:VEVENT
SUMMARY:Journées des stagiaires de Seconde 15/06/2026 - 26/06/2026 (derni
 ère version : 16/04/2026)
DTSTART:20260615T070000Z
DTEND:20260626T200000Z
DTSTAMP:20260419T161000Z
UID:indico-event-13431@indico.ijclab.in2p3.fr
CONTACT:maria-belen.lovino@ijclab.in2p3.fr
DESCRIPTION:Speakers: María Belén Lovino (IJCLAB-IN2P3 (CNRS))\, Sabine 
 Starita (Ijclab)\n\nVersion en construction. Les activités du programme s
 ont coordonnées par le service communication du laboratoire. Le nombre de
  places dans le programme est limité à 25 étudiant·e·s et ce quota es
 t désormais atteint.\nCependant\, les personnes qui n’ont pas pu s’in
 scrire au programme sont les bienvenues pour participer aux sessions ouver
 tes🟦 et aux activités avec les tuteurs 🟨.\n\nCode du programme\n
 🟦 Session ouverte (ne nécessite pas d’inscription au programme).\n
 🟨 Activités avec les tuteurs / temps libre avec les tuteurs (ne néces
 site pas d’inscription au programme).\n🟩 Activités en petits groupes
  (réservées aux personnes inscrites au programme).\nPour toute question\
 , contactez-moi\,\nMaría-Belén LOVINO\n\nhttps://indico.ijclab.in2p3.fr/
 event/13431/
LOCATION:IJCLab
URL:https://indico.ijclab.in2p3.fr/event/13431/
END:VEVENT
END:VCALENDAR
