BEGIN:VCALENDAR
VERSION:2.0
PRODID:-//CERN//INDICO//EN
BEGIN:VEVENT
SUMMARY:TBA
DTSTART:20260507T120000Z
DTEND:20260507T130000Z
DTSTAMP:20260424T085100Z
UID:indico-event-13493@indico.ijclab.in2p3.fr
CONTACT:pierre.arthuis@ijclab.in2p3.fr
DESCRIPTION:Speakers: Richard Gumbel (FRIB\, MSU)\n\nhttps://indico.ijclab
 .in2p3.fr/event/13493/
LOCATION:100/2-A201 - Salle A201 (IJCLab)
URL:https://indico.ijclab.in2p3.fr/event/13493/
END:VEVENT
END:VCALENDAR
