BEGIN:VCALENDAR
VERSION:2.0
PRODID:-//CERN//INDICO//EN
BEGIN:VEVENT
SUMMARY:Michael Fucilla\, "The high-energy regime of QCD at the LHC and EI
 C"
DTSTART:20260409T123000Z
DTEND:20260409T133000Z
DTSTAMP:20260424T085100Z
UID:indico-event-13628@indico.ijclab.in2p3.fr
DESCRIPTION:The center-of-mass energies reached at modern accelerators\, s
 uch as the Large Hadron Collider (LHC)\, and those anticipated at next-gen
 eration facilities\, such as the Electron–Ion Collider (EIC)\, provide a
  unique opportunity to explore hadronic matter under unprecedented conditi
 ons. In particular\, they grant access to the so-called Regge–Gribov (or
  semi-hard) regime of QCD\, characterized by the hierarchy of scales s >> 
 Q^2 >> \\Lambda_{QCD}^2\, where \\sqrt{s} denotes the center-of-mass energ
 y\, Q represents the hard scales of the process\, and \\Lambda_{QCD} is th
 e QCD mass scale. This kinematic domain constitutes an ideal laboratory fo
 r some of the most fascinating phenomena of strong interactions. Among the
 m is the rapid growth of the gluon density at small Bjorken-x\, which is n
 aturally described within the Balitsky–Fadin–Kuraev–Lipatov (BFKL) f
 ramework. At sufficiently high energies\, however\, this growth is expecte
 d to saturate\, leading to the emergence of a novel state of hadronic matt
 er—characterized by high parton densities and strong classical color fie
 lds—known as the Color Glass Condensate (CGC).In this seminar\, I will p
 resent selected aspects of high-energy QCD in both the BFKL and saturation
  regimes\, with particular emphasis on recent developments at the precisio
 n frontier.\n\nhttps://indico.ijclab.in2p3.fr/event/13628/
LOCATION:100/0-MXX - Salle des Conseils (IJCLab)
URL:https://indico.ijclab.in2p3.fr/event/13628/
END:VEVENT
END:VCALENDAR
