BEGIN:VCALENDAR
VERSION:2.0
PRODID:-//CERN//INDICO//EN
BEGIN:VEVENT
SUMMARY:DeMythif.AI Breakfast - April 2026
DTSTART:20260422T070000Z
DTEND:20260422T093000Z
DTSTAMP:20260425T231000Z
UID:indico-event-13630@indico.ijclab.in2p3.fr
DESCRIPTION:Connecting people & perspectives across fields\nDeMythif.AI Br
 eakfasts are monthly opportunities to exchange ideas and build bridges bet
 ween laboratories and fields\, centered around the research themes of DeMy
 thif.AI:- uncertainty quantification of AI\;- AI explainability\;- AI frug
 ality (in data and energy).\nDeMythif.AI is an MSCA COFUND European Doctor
 al programme which funds 25 PhD fellows in AI at Université Paris-Saclay.
  While DeMythif.AI breakfasts are events organised in priority for DeMythi
 f.AI fellows\, PhD students carrying out AI research at Université Paris
 -Saclay are also welcome. PhD advisors are more than welcome to participat
 e as well!\n \n\nhttps://indico.ijclab.in2p3.fr/event/13630/
LOCATION:Amphitheater Digitéo (Digitéo - b. 660)
URL:https://indico.ijclab.in2p3.fr/event/13630/
END:VEVENT
END:VCALENDAR
